{
 "currentVersion": 11.1,
 "serviceDescription": "Aerial/Aerial_2022",
 "name": "Aerial/Aerial_2022",
 "description": "",
 "extent": {
  "xmin": 2538624,
  "ymin": 252912,
  "xmax": 2572944,
  "ymax": 295152,
  "spatialReference": {
   "wkid": 103191,
   "latestWkid": 6609
  }
 },
 "initialExtent": {
  "xmin": 2538624,
  "ymin": 252912,
  "xmax": 2572944,
  "ymax": 295152,
  "spatialReference": {
   "wkid": 103191,
   "latestWkid": 6609
  }
 },
 "fullExtent": {
  "xmin": 2538624,
  "ymin": 252912,
  "xmax": 2572944,
  "ymax": 295152,
  "spatialReference": {
   "wkid": 103191,
   "latestWkid": 6609
  }
 },
 "sortableFields": "",
 "bandCount": 3,
 "pixelType": "U8",
 "minValues": [
  0,
  24,
  2
 ],
 "maxValues": [
  255,
  255,
  255
 ],
 "meanValues": [
  170.93798724309,
  166.05350815025,
  146.43320340184
 ],
 "stdvValues": [
  60.682309754487,
  62.823196725977,
  75.470447299631
 ],
 "hasMultidimensions": false,
 "pixelSizeX": 0.25,
 "pixelSizeY": 0.25,
 "datasetFormat": "MrSID",
 "uncompressedSize": 69584486400,
 "blockWidth": 1024,
 "blockHeight": 128,
 "compressionType": "Wavelet (MG3)",
 "bandNames": [
  "Band_1",
  "Band_2",
  "Band_3"
 ],
 "allowCopy": true,
 "allowAnalysis": true,
 "itemAccess": false,
 "minPixelSize": 0,
 "maxPixelSize": 0,
 "copyrightText": "",
 "serviceDataType": "esriImageServiceDataTypeProcessed",
 "serviceSourceType": "esriImageServiceSourceTypeDataset",
 "objectIdField": "",
 "fields": [],
 "capabilities": "Image,Metadata,Mensuration",
 "defaultMosaicMethod": "Center",
 "allowedMosaicMethods": "",
 "sortField": "",
 "sortValue": null,
 "sortAscending": true,
 "mosaicOperator": "First",
 "defaultCompressionQuality": 75,
 "defaultResamplingMethod": "Bilinear",
 "maxImageHeight": 4100,
 "maxImageWidth": 15000,
 "allowRasterFunction": true,
 "rasterFunctionInfos": [
  {
   "name": "None",
   "description": "",
   "help": ""
  }
 ],
 "rasterTypeInfos": [
  {
   "name": "Raster Dataset",
   "description": "Supports all ArcGIS Raster Datasets",
   "help": ""
  }
 ],
 "mensurationCapabilities": "Basic",
 "hasHistograms": true,
 "hasColormap": false,
 "hasRasterAttributeTable": false,
 "minScale": 0,
 "maxScale": 0,
 "exportTilesAllowed": false,
 "supportsStatistics": false,
 "supportsAdvancedQueries": false,
 "editFieldsInfo": null,
 "ownershipBasedAccessControlForRasters": null,
 "allowComputeTiePoints": false,
 "useStandardizedQueries": true,
 "advancedQueryCapabilities": {
  "useStandardizedQueries": true,
  "supportsStatistics": false,
  "supportsOrderBy": false,
  "supportsDistinct": false,
  "supportsPagination": false
 },
 "spatialReference": {
  "wkid": 103191,
  "latestWkid": 6609
 }
}
