{
 "currentVersion": 11.1,
 "serviceDescription": "Aerial/WICRAC16_Delivery_sid",
 "name": "Aerial/WICRAC16_Delivery_sid",
 "description": "",
 "extent": {
  "xmin": 2570976.5897,
  "ymin": 253659.07,
  "xmax": 2602249.8397,
  "ymax": 293986.57,
  "spatialReference": {
   "wkid": 32054,
   "latestWkid": 32054
  }
 },
 "initialExtent": {
  "xmin": 2570976.5897,
  "ymin": 253659.07,
  "xmax": 2602249.8397,
  "ymax": 293986.57,
  "spatialReference": {
   "wkid": 32054,
   "latestWkid": 32054
  }
 },
 "fullExtent": {
  "xmin": 2570976.5897,
  "ymin": 253659.07,
  "xmax": 2602249.8397,
  "ymax": 293986.57,
  "spatialReference": {
   "wkid": 32054,
   "latestWkid": 32054
  }
 },
 "sortableFields": "",
 "bandCount": 3,
 "pixelType": "U8",
 "minValues": [
  27,
  35,
  0
 ],
 "maxValues": [
  255,
  255,
  255
 ],
 "meanValues": [
  181.60106165782,
  177.69722335647,
  160.34013883218
 ],
 "stdvValues": [
  63.212379445527,
  66.096901009332,
  80.08317864559
 ],
 "hasMultidimensions": false,
 "pixelSizeX": 0.25,
 "pixelSizeY": 0.25,
 "datasetFormat": "MrSID",
 "uncompressedSize": 60536255490,
 "blockWidth": 1024,
 "blockHeight": 128,
 "compressionType": "Wavelet (MG3)",
 "bandNames": [
  "Band_1",
  "Band_2",
  "Band_3"
 ],
 "allowCopy": true,
 "allowAnalysis": true,
 "itemAccess": false,
 "minPixelSize": 0,
 "maxPixelSize": 0,
 "copyrightText": "",
 "serviceDataType": "esriImageServiceDataTypeRGB",
 "serviceSourceType": "esriImageServiceSourceTypeDataset",
 "objectIdField": "",
 "fields": [],
 "capabilities": "Image,Metadata,Mensuration",
 "defaultMosaicMethod": "Center",
 "allowedMosaicMethods": "",
 "sortField": "",
 "sortValue": null,
 "sortAscending": true,
 "mosaicOperator": "First",
 "defaultCompressionQuality": 75,
 "defaultResamplingMethod": "Bilinear",
 "maxImageHeight": 4100,
 "maxImageWidth": 15000,
 "allowRasterFunction": true,
 "rasterFunctionInfos": [
  {
   "name": "None",
   "description": "",
   "help": ""
  }
 ],
 "rasterTypeInfos": [
  {
   "name": "Raster Dataset",
   "description": "Supports all ArcGIS Raster Datasets",
   "help": ""
  }
 ],
 "mensurationCapabilities": "Basic",
 "hasHistograms": true,
 "hasColormap": false,
 "hasRasterAttributeTable": false,
 "minScale": 0,
 "maxScale": 0,
 "exportTilesAllowed": false,
 "supportsStatistics": false,
 "supportsAdvancedQueries": false,
 "editFieldsInfo": null,
 "ownershipBasedAccessControlForRasters": null,
 "allowComputeTiePoints": false,
 "useStandardizedQueries": true,
 "advancedQueryCapabilities": {
  "useStandardizedQueries": true,
  "supportsStatistics": false,
  "supportsOrderBy": false,
  "supportsDistinct": false,
  "supportsPagination": false
 },
 "spatialReference": {
  "wkid": 32054,
  "latestWkid": 32054
 }
}
