{
 "currentVersion": 11.1,
 "serviceDescription": "AerialPhotos/2013Aerial",
 "name": "AerialPhotos/2013Aerial",
 "description": "",
 "extent": {
  "xmin": 2570976.589714408,
  "ymin": 253659.07000000775,
  "xmax": 2602250.089714408,
  "ymax": 293986.57000000775,
  "spatialReference": {
   "wkt": "PROJCS[\"NAD_1927_Wisconsin_South\",GEOGCS[\"GCS_North_American_1927\",DATUM[\"D_North_American_1927\",SPHEROID[\"Clarke_1866\",6378206.4,294.9786982]],PRIMEM[\"Greenwich\",0.0],UNIT[\"Degree\",0.0174532925199433]],PROJECTION[\"Lambert_Conformal_Conic\"],PARAMETER[\"false_easting\",2000000.0],PARAMETER[\"false_northing\",0.0],PARAMETER[\"central_meridian\",-90.0],PARAMETER[\"standard_parallel_1\",42.73333333333333],PARAMETER[\"standard_parallel_2\",44.06666666666667],PARAMETER[\"latitude_of_origin\",42.0],UNIT[\"Foot_US\",0.3048006096012192]]"
  }
 },
 "initialExtent": {
  "xmin": 2570976.589714408,
  "ymin": 253659.07000000775,
  "xmax": 2602250.089714408,
  "ymax": 293986.57000000775,
  "spatialReference": {
   "wkt": "PROJCS[\"NAD_1927_Wisconsin_South\",GEOGCS[\"GCS_North_American_1927\",DATUM[\"D_North_American_1927\",SPHEROID[\"Clarke_1866\",6378206.4,294.9786982]],PRIMEM[\"Greenwich\",0.0],UNIT[\"Degree\",0.0174532925199433]],PROJECTION[\"Lambert_Conformal_Conic\"],PARAMETER[\"false_easting\",2000000.0],PARAMETER[\"false_northing\",0.0],PARAMETER[\"central_meridian\",-90.0],PARAMETER[\"standard_parallel_1\",42.73333333333333],PARAMETER[\"standard_parallel_2\",44.06666666666667],PARAMETER[\"latitude_of_origin\",42.0],UNIT[\"Foot_US\",0.3048006096012192]]"
  }
 },
 "fullExtent": {
  "xmin": 2570976.589714408,
  "ymin": 253659.07000000775,
  "xmax": 2602250.089714408,
  "ymax": 293986.57000000775,
  "spatialReference": {
   "wkt": "PROJCS[\"NAD_1927_Wisconsin_South\",GEOGCS[\"GCS_North_American_1927\",DATUM[\"D_North_American_1927\",SPHEROID[\"Clarke_1866\",6378206.4,294.9786982]],PRIMEM[\"Greenwich\",0.0],UNIT[\"Degree\",0.0174532925199433]],PROJECTION[\"Lambert_Conformal_Conic\"],PARAMETER[\"false_easting\",2000000.0],PARAMETER[\"false_northing\",0.0],PARAMETER[\"central_meridian\",-90.0],PARAMETER[\"standard_parallel_1\",42.73333333333333],PARAMETER[\"standard_parallel_2\",44.06666666666667],PARAMETER[\"latitude_of_origin\",42.0],UNIT[\"Foot_US\",0.3048006096012192]]"
  }
 },
 "sortableFields": "",
 "bandCount": 3,
 "pixelType": "U8",
 "minValues": [
  15,
  22,
  0
 ],
 "maxValues": [
  255,
  255,
  255
 ],
 "meanValues": [
  177.51980400163,
  171.54205798285,
  158.05369538587
 ],
 "stdvValues": [
  66.452466423721,
  71.141368350224,
  82.195333578055
 ],
 "hasMultidimensions": false,
 "pixelSizeX": 0.25,
 "pixelSizeY": 0.25,
 "datasetFormat": "MrSID",
 "uncompressedSize": 60536739420,
 "blockWidth": 1024,
 "blockHeight": 128,
 "compressionType": "Wavelet (MG3)",
 "bandNames": [
  "Band_1",
  "Band_2",
  "Band_3"
 ],
 "allowCopy": true,
 "allowAnalysis": true,
 "itemAccess": false,
 "minPixelSize": 0,
 "maxPixelSize": 0,
 "copyrightText": "",
 "serviceDataType": "esriImageServiceDataTypeRGB",
 "serviceSourceType": "esriImageServiceSourceTypeDataset",
 "objectIdField": "",
 "fields": [],
 "capabilities": "Image,Metadata,Mensuration",
 "defaultMosaicMethod": "Center",
 "allowedMosaicMethods": "",
 "sortField": "",
 "sortValue": null,
 "sortAscending": true,
 "mosaicOperator": "First",
 "defaultCompressionQuality": 75,
 "defaultResamplingMethod": "Bilinear",
 "maxImageHeight": 4100,
 "maxImageWidth": 15000,
 "allowRasterFunction": true,
 "rasterFunctionInfos": [
  {
   "name": "None",
   "description": "",
   "help": ""
  }
 ],
 "rasterTypeInfos": [
  {
   "name": "Raster Dataset",
   "description": "Supports all ArcGIS Raster Datasets",
   "help": ""
  }
 ],
 "mensurationCapabilities": "Basic",
 "hasHistograms": true,
 "hasColormap": false,
 "hasRasterAttributeTable": false,
 "minScale": 0,
 "maxScale": 0,
 "exportTilesAllowed": false,
 "supportsStatistics": false,
 "supportsAdvancedQueries": false,
 "editFieldsInfo": null,
 "ownershipBasedAccessControlForRasters": null,
 "allowComputeTiePoints": false,
 "useStandardizedQueries": true,
 "advancedQueryCapabilities": {
  "useStandardizedQueries": true,
  "supportsStatistics": false,
  "supportsOrderBy": false,
  "supportsDistinct": false,
  "supportsPagination": false
 },
 "spatialReference": {
  "wkt": "PROJCS[\"NAD_1927_Wisconsin_South\",GEOGCS[\"GCS_North_American_1927\",DATUM[\"D_North_American_1927\",SPHEROID[\"Clarke_1866\",6378206.4,294.9786982]],PRIMEM[\"Greenwich\",0.0],UNIT[\"Degree\",0.0174532925199433]],PROJECTION[\"Lambert_Conformal_Conic\"],PARAMETER[\"false_easting\",2000000.0],PARAMETER[\"false_northing\",0.0],PARAMETER[\"central_meridian\",-90.0],PARAMETER[\"standard_parallel_1\",42.73333333333333],PARAMETER[\"standard_parallel_2\",44.06666666666667],PARAMETER[\"latitude_of_origin\",42.0],UNIT[\"Foot_US\",0.3048006096012192]]"
 }
}
