{
 "currentVersion": 11.1,
 "serviceDescription": "HistoricMap/1855_Racine_Map",
 "name": "HistoricMap/1855_Racine_Map",
 "description": "",
 "extent": {
  "xmin": 2587990.4564837394,
  "ymin": 263643.9177277612,
  "xmax": 2598859.6342096557,
  "ymax": 278386.17810757004,
  "spatialReference": {
   "wkid": 32054,
   "latestWkid": 32054
  }
 },
 "initialExtent": {
  "xmin": 2587990.4564837394,
  "ymin": 263643.9177277612,
  "xmax": 2598859.6342096557,
  "ymax": 278386.17810757004,
  "spatialReference": {
   "wkid": 32054,
   "latestWkid": 32054
  }
 },
 "fullExtent": {
  "xmin": 2587990.4564837394,
  "ymin": 263643.9177277612,
  "xmax": 2598859.6342096557,
  "ymax": 278386.17810757004,
  "spatialReference": {
   "wkid": 32054,
   "latestWkid": 32054
  }
 },
 "sortableFields": "",
 "bandCount": 3,
 "pixelType": "U8",
 "minValues": [],
 "maxValues": [],
 "meanValues": [],
 "stdvValues": [],
 "hasMultidimensions": false,
 "pixelSizeX": 1.069379941550203,
 "pixelSizeY": 1.0281950327666927,
 "datasetFormat": "TIFF",
 "uncompressedSize": 437194296,
 "blockWidth": 10164,
 "blockHeight": 1,
 "compressionType": "LZW",
 "bandNames": [
  "Band_1",
  "Band_2",
  "Band_3"
 ],
 "allowCopy": true,
 "allowAnalysis": true,
 "itemAccess": false,
 "minPixelSize": 0,
 "maxPixelSize": 0,
 "copyrightText": "",
 "serviceDataType": "esriImageServiceDataTypeRGB",
 "serviceSourceType": "esriImageServiceSourceTypeDataset",
 "objectIdField": "",
 "fields": [],
 "capabilities": "Image,Metadata,Mensuration",
 "defaultMosaicMethod": "Center",
 "allowedMosaicMethods": "",
 "sortField": "",
 "sortValue": null,
 "sortAscending": true,
 "mosaicOperator": "First",
 "defaultCompressionQuality": 75,
 "defaultResamplingMethod": "Bilinear",
 "maxImageHeight": 4100,
 "maxImageWidth": 15000,
 "allowRasterFunction": true,
 "rasterFunctionInfos": [
  {
   "name": "None",
   "description": "",
   "help": ""
  }
 ],
 "rasterTypeInfos": [
  {
   "name": "Raster Dataset",
   "description": "Supports all ArcGIS Raster Datasets",
   "help": ""
  }
 ],
 "mensurationCapabilities": "Basic",
 "hasHistograms": false,
 "hasColormap": false,
 "hasRasterAttributeTable": false,
 "minScale": 0,
 "maxScale": 0,
 "exportTilesAllowed": false,
 "supportsStatistics": false,
 "supportsAdvancedQueries": false,
 "editFieldsInfo": null,
 "ownershipBasedAccessControlForRasters": null,
 "allowComputeTiePoints": false,
 "useStandardizedQueries": true,
 "advancedQueryCapabilities": {
  "useStandardizedQueries": true,
  "supportsStatistics": false,
  "supportsOrderBy": false,
  "supportsDistinct": false,
  "supportsPagination": false
 },
 "spatialReference": {
  "wkid": 32054,
  "latestWkid": 32054
 }
}
