<?xml version="1.0" encoding="UTF-8" standalone="no"?>
<metadata xml:lang="en">
<Esri>
<CreaDate>20240815</CreaDate>
<CreaTime>09525500</CreaTime>
<ArcGISFormat>1.0</ArcGISFormat>
<SyncOnce>FALSE</SyncOnce>
<DataProperties>
<itemProps>
<itemName Sync="TRUE">Merge1887</itemName>
<itemLocation>
<linkage Sync="TRUE">file://F:\arcgisserver\Maps\2016Maps\SymbiontData\Racine\Sanborns\1887\1887\Merge1887</linkage>
<protocol Sync="TRUE">Local Area Network</protocol>
</itemLocation>
<imsContentType Sync="TRUE">002</imsContentType>
<nativeExtBox>
<westBL Sync="TRUE">2591308.716419</westBL>
<eastBL Sync="TRUE">2596544.630994</eastBL>
<southBL Sync="TRUE">263993.245599</southBL>
<northBL Sync="TRUE">278677.803176</northBL>
<exTypeCode Sync="TRUE">1</exTypeCode>
</nativeExtBox>
</itemProps>
<coordRef>
<type Sync="TRUE">Projected</type>
<geogcsn Sync="TRUE">GCS_North_American_1927</geogcsn>
<csUnits Sync="TRUE">Linear Unit: Foot_US (0.304801)</csUnits>
<projcsn Sync="TRUE">NAD_1927_StatePlane_Wisconsin_South_FIPS_4803</projcsn>
<peXml Sync="TRUE">&lt;ProjectedCoordinateSystem xsi:type='typens:ProjectedCoordinateSystem' xmlns:xsi='http://www.w3.org/2001/XMLSchema-instance' xmlns:xs='http://www.w3.org/2001/XMLSchema' xmlns:typens='http://www.esri.com/schemas/ArcGIS/3.1.0'&gt;&lt;WKT&gt;PROJCS[&amp;quot;NAD_1927_StatePlane_Wisconsin_South_FIPS_4803&amp;quot;,GEOGCS[&amp;quot;GCS_North_American_1927&amp;quot;,DATUM[&amp;quot;D_North_American_1927&amp;quot;,SPHEROID[&amp;quot;Clarke_1866&amp;quot;,6378206.4,294.9786982]],PRIMEM[&amp;quot;Greenwich&amp;quot;,0.0],UNIT[&amp;quot;Degree&amp;quot;,0.0174532925199433]],PROJECTION[&amp;quot;Lambert_Conformal_Conic&amp;quot;],PARAMETER[&amp;quot;False_Easting&amp;quot;,2000000.0],PARAMETER[&amp;quot;False_Northing&amp;quot;,0.0],PARAMETER[&amp;quot;Central_Meridian&amp;quot;,-90.0],PARAMETER[&amp;quot;Standard_Parallel_1&amp;quot;,42.73333333333333],PARAMETER[&amp;quot;Standard_Parallel_2&amp;quot;,44.06666666666667],PARAMETER[&amp;quot;Latitude_Of_Origin&amp;quot;,42.0],UNIT[&amp;quot;Foot_US&amp;quot;,0.3048006096012192],AUTHORITY[&amp;quot;EPSG&amp;quot;,32054]]&lt;/WKT&gt;&lt;XOrigin&gt;-118083400&lt;/XOrigin&gt;&lt;YOrigin&gt;-97411200&lt;/YOrigin&gt;&lt;XYScale&gt;37503931.662248865&lt;/XYScale&gt;&lt;ZOrigin&gt;-100000&lt;/ZOrigin&gt;&lt;ZScale&gt;10000&lt;/ZScale&gt;&lt;MOrigin&gt;-100000&lt;/MOrigin&gt;&lt;MScale&gt;10000&lt;/MScale&gt;&lt;XYTolerance&gt;0.0032808333333333331&lt;/XYTolerance&gt;&lt;ZTolerance&gt;0.001&lt;/ZTolerance&gt;&lt;MTolerance&gt;0.001&lt;/MTolerance&gt;&lt;HighPrecision&gt;true&lt;/HighPrecision&gt;&lt;WKID&gt;32054&lt;/WKID&gt;&lt;LatestWKID&gt;32054&lt;/LatestWKID&gt;&lt;/ProjectedCoordinateSystem&gt;</peXml>
</coordRef>
<RasterProperties>
<General>
<PixelDepth Sync="TRUE">8</PixelDepth>
<HasColormap Sync="TRUE">FALSE</HasColormap>
<CompressionType Sync="TRUE">None</CompressionType>
<NumBands Sync="TRUE">3</NumBands>
<Format Sync="TRUE">GRID Stack 7.x</Format>
<HasPyramids Sync="TRUE">TRUE</HasPyramids>
<SourceType Sync="TRUE">continuous</SourceType>
<PixelType Sync="TRUE">unsigned integer</PixelType>
<NoDataValue Sync="TRUE">0</NoDataValue>
</General>
</RasterProperties>
<lineage>
<Process Date="20240815" Time="095256" ToolSource="e:\program files\arcgis\pro\Resources\ArcToolbox\toolboxes\Data Management Tools.tbx\MosaicToNewRaster">MosaicToNewRaster F:\arcgisserver\Maps\2016Maps\SymbiontData\Racine\Sanborns\1887\1887\2.tif;F:\arcgisserver\Maps\2016Maps\SymbiontData\Racine\Sanborns\1887\1887\2b.tif;F:\arcgisserver\Maps\2016Maps\SymbiontData\Racine\Sanborns\1887\1887\2c.tif;F:\arcgisserver\Maps\2016Maps\SymbiontData\Racine\Sanborns\1887\1887\2d.tif;F:\arcgisserver\Maps\2016Maps\SymbiontData\Racine\Sanborns\1887\1887\2e.tif;F:\arcgisserver\Maps\2016Maps\SymbiontData\Racine\Sanborns\1887\1887\3.tif;F:\arcgisserver\Maps\2016Maps\SymbiontData\Racine\Sanborns\1887\1887\4.tif;F:\arcgisserver\Maps\2016Maps\SymbiontData\Racine\Sanborns\1887\1887\5.tif;F:\arcgisserver\Maps\2016Maps\SymbiontData\Racine\Sanborns\1887\1887\6.tif;F:\arcgisserver\Maps\2016Maps\SymbiontData\Racine\Sanborns\1887\1887\7.tif;F:\arcgisserver\Maps\2016Maps\SymbiontData\Racine\Sanborns\1887\1887\8.tif;F:\arcgisserver\Maps\2016Maps\SymbiontData\Racine\Sanborns\1887\1887\9.tif;F:\arcgisserver\Maps\2016Maps\SymbiontData\Racine\Sanborns\1887\1887\10.tif;F:\arcgisserver\Maps\2016Maps\SymbiontData\Racine\Sanborns\1887\1887\10b.tif;F:\arcgisserver\Maps\2016Maps\SymbiontData\Racine\Sanborns\1887\1887\11.tif;F:\arcgisserver\Maps\2016Maps\SymbiontData\Racine\Sanborns\1887\1887\12.tif;F:\arcgisserver\Maps\2016Maps\SymbiontData\Racine\Sanborns\1887\1887\12b.tif;F:\arcgisserver\Maps\2016Maps\SymbiontData\Racine\Sanborns\1887\1887\13.tif;F:\arcgisserver\Maps\2016Maps\SymbiontData\Racine\Sanborns\1887\1887\14.tif;F:\arcgisserver\Maps\2016Maps\SymbiontData\Racine\Sanborns\1887\1887\16.tif;F:\arcgisserver\Maps\2016Maps\SymbiontData\Racine\Sanborns\1887\1887\17.tif;F:\arcgisserver\Maps\2016Maps\SymbiontData\Racine\Sanborns\1887\1887\18.tif;F:\arcgisserver\Maps\2016Maps\SymbiontData\Racine\Sanborns\1887\1887\19.tif;F:\arcgisserver\Maps\2016Maps\SymbiontData\Racine\Sanborns\1887\1887\19b.tif;F:\arcgisserver\Maps\2016Maps\SymbiontData\Racine\Sanborns\1887\1887\20.tif;F:\arcgisserver\Maps\2016Maps\SymbiontData\Racine\Sanborns\1887\1887\21.tif;F:\arcgisserver\Maps\2016Maps\SymbiontData\Racine\Sanborns\1887\1887\22.tif;F:\arcgisserver\Maps\2016Maps\SymbiontData\Racine\Sanborns\1887\1887\22b.tif;F:\arcgisserver\Maps\2016Maps\SymbiontData\Racine\Sanborns\1887\1887\23.tif;F:\arcgisserver\Maps\2016Maps\SymbiontData\Racine\Sanborns\1887\1887\23b.tif;F:\arcgisserver\Maps\2016Maps\SymbiontData\Racine\Sanborns\1887\1887\24.tif;F:\arcgisserver\Maps\2016Maps\SymbiontData\Racine\Sanborns\1887\1887\24b.tif;F:\arcgisserver\Maps\2016Maps\SymbiontData\Racine\Sanborns\1887\1887\25.tif;F:\arcgisserver\Maps\2016Maps\SymbiontData\Racine\Sanborns\1887\1887\26.tif;F:\arcgisserver\Maps\2016Maps\SymbiontData\Racine\Sanborns\1887\1887\26b.tif;F:\arcgisserver\Maps\2016Maps\SymbiontData\Racine\Sanborns\1887\1887\27.tif F:\arcgisserver\Maps\2016Maps\SymbiontData\Racine\Sanborns\1887\1887 Merge1887 PROJCS["NAD_1927_StatePlane_Wisconsin_South_FIPS_4803",GEOGCS["GCS_North_American_1927",DATUM["D_North_American_1927",SPHEROID["Clarke_1866",6378206.4,294.9786982]],PRIMEM["Greenwich",0.0],UNIT["Degree",0.0174532925199433]],PROJECTION["Lambert_Conformal_Conic"],PARAMETER["False_Easting",2000000.0],PARAMETER["False_Northing",0.0],PARAMETER["Central_Meridian",-90.0],PARAMETER["Standard_Parallel_1",42.73333333333333],PARAMETER["Standard_Parallel_2",44.06666666666667],PARAMETER["Latitude_Of_Origin",42.0],UNIT["Foot_US",0.3048006096012192]] "16 bit unsigned" # 3 Last First</Process>
</lineage>
</DataProperties>
<SyncDate>20240815</SyncDate>
<SyncTime>09525500</SyncTime>
<ModDate>20240815</ModDate>
<ModTime>09525500</ModTime>
</Esri>
<dataIdInfo>
<envirDesc Sync="TRUE">Microsoft Windows Server 2016 Technical Preview Version 10.0 (Build 20348) ; Esri ArcGIS 13.1.5.41833</envirDesc>
<dataLang>
<languageCode Sync="TRUE" value="eng"/>
<countryCode Sync="TRUE" value="USA"/>
</dataLang>
<idCitation>
<resTitle Sync="TRUE">Sanborn_1887</resTitle>
<presForm>
<PresFormCd Sync="TRUE" value="005"/>
</presForm>
</idCitation>
<spatRpType>
<SpatRepTypCd Sync="TRUE" value="002"/>
</spatRpType>
<dataExt>
<geoEle>
<GeoBndBox esriExtentType="search">
<exTypeCode Sync="TRUE">1</exTypeCode>
<westBL Sync="TRUE">-87.800073</westBL>
<eastBL Sync="TRUE">-87.779147</eastBL>
<northBL Sync="TRUE">42.743199</northBL>
<southBL Sync="TRUE">42.702541</southBL>
</GeoBndBox>
</geoEle>
</dataExt>
<idAbs/>
<idPurp/>
<idCredit/>
<resConst>
<Consts>
<useLimit/>
</Consts>
</resConst>
</dataIdInfo>
<mdLang>
<languageCode Sync="TRUE" value="eng"/>
<countryCode Sync="TRUE" value="USA"/>
</mdLang>
<mdChar>
<CharSetCd Sync="TRUE" value="004"/>
</mdChar>
<distInfo>
<distFormat>
<formatName Sync="TRUE">Raster Dataset</formatName>
</distFormat>
</distInfo>
<mdHrLv>
<ScopeCd Sync="TRUE" value="005"/>
</mdHrLv>
<mdHrLvName Sync="TRUE">dataset</mdHrLvName>
<refSysInfo>
<RefSystem>
<refSysID>
<identCode Sync="TRUE" code="32054"/>
<idCodeSpace Sync="TRUE">EPSG</idCodeSpace>
<idVersion Sync="TRUE">2.1(3.0.1)</idVersion>
</refSysID>
</RefSystem>
</refSysInfo>
<spatRepInfo>
<Georect>
<cellGeo>
<CellGeoCd Sync="TRUE" value="002"/>
</cellGeo>
<numDims Sync="TRUE">2</numDims>
<tranParaAv Sync="TRUE">1</tranParaAv>
<chkPtAv Sync="TRUE">0</chkPtAv>
<cornerPts>
<pos Sync="TRUE">2591308.716419 263993.245599</pos>
</cornerPts>
<cornerPts>
<pos Sync="TRUE">2591308.716419 278677.803176</pos>
</cornerPts>
<cornerPts>
<pos Sync="TRUE">2596544.630994 278677.803176</pos>
</cornerPts>
<cornerPts>
<pos Sync="TRUE">2596544.630994 263993.245599</pos>
</cornerPts>
<centerPt>
<pos Sync="TRUE">2593926.673706 271335.524388</pos>
</centerPt>
<axisDimension type="002">
<dimSize Sync="TRUE">46475</dimSize>
<dimResol>
<value Sync="TRUE" uom="ftUS">0.112661</value>
</dimResol>
</axisDimension>
<axisDimension type="001">
<dimSize Sync="TRUE">130343</dimSize>
<dimResol>
<value Sync="TRUE" uom="ftUS">0.112661</value>
</dimResol>
</axisDimension>
<ptInPixel>
<PixOrientCd Sync="TRUE" value="001"/>
</ptInPixel>
</Georect>
</spatRepInfo>
<contInfo>
<ImgDesc>
<contentTyp>
<ContentTypCd Sync="TRUE" value="003"/>
</contentTyp>
<covDim>
<Band>
<dimDescrp Sync="TRUE">merge1887c1</dimDescrp>
<maxVal Sync="TRUE">255.000000</maxVal>
<minVal Sync="TRUE">43.000000</minVal>
<bitsPerVal Sync="TRUE">8</bitsPerVal>
<valUnit>
<UOM type="length"/>
</valUnit>
</Band>
<Band>
<dimDescrp Sync="TRUE">merge1887c2</dimDescrp>
<maxVal Sync="TRUE">248.000000</maxVal>
<minVal Sync="TRUE">0.000000</minVal>
<bitsPerVal Sync="TRUE">8</bitsPerVal>
<valUnit>
<UOM type="length"/>
</valUnit>
</Band>
<Band>
<dimDescrp Sync="TRUE">merge1887c3</dimDescrp>
<maxVal Sync="TRUE">250.000000</maxVal>
<minVal Sync="TRUE">41.000000</minVal>
<bitsPerVal Sync="TRUE">8</bitsPerVal>
<valUnit>
<UOM type="length"/>
</valUnit>
</Band>
</covDim>
</ImgDesc>
</contInfo>
<mdDateSt Sync="TRUE">20240815</mdDateSt>
</metadata>
