{
 "currentVersion": 11.1,
 "serviceDescription": "Sanborn/Sanborn_1887",
 "name": "Sanborn/Sanborn_1887",
 "description": "",
 "extent": {
  "xmin": 2591308.716418902,
  "ymin": 263993.245598737,
  "xmax": 2596544.6309936466,
  "ymax": 278677.8031762714,
  "spatialReference": {
   "wkid": 32054,
   "latestWkid": 32054
  }
 },
 "initialExtent": {
  "xmin": 2591308.716418902,
  "ymin": 263993.245598737,
  "xmax": 2596544.6309936466,
  "ymax": 278677.8031762714,
  "spatialReference": {
   "wkid": 32054,
   "latestWkid": 32054
  }
 },
 "fullExtent": {
  "xmin": 2591308.716418902,
  "ymin": 263993.245598737,
  "xmax": 2596544.6309936466,
  "ymax": 278677.8031762714,
  "spatialReference": {
   "wkid": 32054,
   "latestWkid": 32054
  }
 },
 "sortableFields": "",
 "bandCount": 3,
 "pixelType": "U8",
 "minValues": [
  43,
  0,
  41
 ],
 "maxValues": [
  255,
  248,
  250
 ],
 "meanValues": [
  197.28509420774975,
  185.767443020177,
  159.24154182354528
 ],
 "stdvValues": [
  28.21387663941606,
  27.218469075826373,
  26.09076731041899
 ],
 "hasMultidimensions": false,
 "pixelSizeX": 0.11266088380300475,
 "pixelSizeY": 0.11266088380299981,
 "datasetFormat": "GRID Stack 7.x",
 "uncompressedSize": 18173072775,
 "blockWidth": 256,
 "blockHeight": 16,
 "compressionType": "None",
 "bandNames": [
  "merge1887c1",
  "merge1887c2",
  "merge1887c3"
 ],
 "allowCopy": true,
 "allowAnalysis": true,
 "itemAccess": false,
 "noDataValue": 0,
 "noDataValues": [
  0,
  255,
  0
 ],
 "minPixelSize": 0,
 "maxPixelSize": 0,
 "copyrightText": "",
 "serviceDataType": "esriImageServiceDataTypeRGB",
 "serviceSourceType": "esriImageServiceSourceTypeDataset",
 "objectIdField": "",
 "fields": [],
 "capabilities": "Image,Metadata,Mensuration",
 "defaultMosaicMethod": "Center",
 "allowedMosaicMethods": "",
 "sortField": "",
 "sortValue": null,
 "sortAscending": true,
 "mosaicOperator": "First",
 "defaultCompressionQuality": 75,
 "defaultResamplingMethod": "Bilinear",
 "maxImageHeight": 4100,
 "maxImageWidth": 15000,
 "allowRasterFunction": true,
 "rasterFunctionInfos": [
  {
   "name": "None",
   "description": "",
   "help": ""
  }
 ],
 "rasterTypeInfos": [
  {
   "name": "Raster Dataset",
   "description": "Supports all ArcGIS Raster Datasets",
   "help": ""
  }
 ],
 "mensurationCapabilities": "Basic",
 "hasHistograms": true,
 "hasColormap": false,
 "hasRasterAttributeTable": false,
 "minScale": 0,
 "maxScale": 0,
 "exportTilesAllowed": false,
 "supportsStatistics": false,
 "supportsAdvancedQueries": false,
 "editFieldsInfo": null,
 "ownershipBasedAccessControlForRasters": null,
 "allowComputeTiePoints": false,
 "useStandardizedQueries": true,
 "advancedQueryCapabilities": {
  "useStandardizedQueries": true,
  "supportsStatistics": false,
  "supportsOrderBy": false,
  "supportsDistinct": false,
  "supportsPagination": false
 },
 "spatialReference": {
  "wkid": 32054,
  "latestWkid": 32054
 }
}
