View In:
ArcGIS JavaScript
ArcGIS Online Map Viewer
ArcGIS Earth
Service Description: Aerial/WICRAC16_Delivery_sid
Name: Aerial/WICRAC16_Delivery_sid
Description:
Single Fused Map Cache: false
Extent:
XMin: 2570976.5897
YMin: 253659.07
XMax: 2602249.8397
YMax: 293986.57
Spatial Reference: 32054
(32054)
LatestVCSWkid(0)
Initial Extent:
XMin: 2570976.5897
YMin: 253659.07
XMax: 2602249.8397
YMax: 293986.57
Spatial Reference: 32054
(32054)
LatestVCSWkid(0)
Full Extent:
XMin: 2570976.5897
YMin: 253659.07
XMax: 2602249.8397
YMax: 293986.57
Spatial Reference: 32054
(32054)
LatestVCSWkid(0)
Pixel Size X: 0.25
Pixel Size Y: 0.25
Band Count: 3
Pixel Type: U8
RasterFunction Infos: {"rasterFunctionInfos": [{
"name": "None",
"description": "",
"help": ""
}]}
Mensuration Capabilities: Basic
Has Histograms: true
Has Colormap: false
Has Multi Dimensions : false
Rendering Rule:
Min Scale: 0
Max Scale: 0
Copyright Text:
Service Data Type: esriImageServiceDataTypeRGB
Min Values: 27, 35, 0
Max Values: 255, 255, 255
Mean Values: 181.60106165782, 177.69722335647, 160.34013883218
Standard Deviation Values: 63.212379445527, 66.096901009332, 80.08317864559
Object ID Field:
Fields:
None
Default Mosaic Method: Center
Allowed Mosaic Methods:
SortField:
SortValue: null
Mosaic Operator: First
Default Compression Quality: 75
Default Resampling Method: Bilinear
Max Record Count: null
Max Image Height: 4100
Max Image Width: 15000
Max Download Image Count: null
Max Mosaic Image Count: null
Allow Raster Function: true
Allow Copy: true
Allow Analysis: true
Allow Compute TiePoints: false
Supports Statistics: false
Supports Advanced Queries: false
Use StandardizedQueries: true
Raster Type Infos:
Name: Raster Dataset
Description: Supports all ArcGIS Raster Datasets
Help:
Has Raster Attribute Table: false
Edit Fields Info: null
Ownership Based AccessControl For Rasters: null
Child Resources:
Info
Histograms
Statistics
Key Properties
Legend
Raster Function Infos
Supported Operations:
Export Image
Identify
Measure
Compute Histograms
Compute Statistics Histograms
Get Samples
Compute Class Statistics
Query Boundary
Compute Pixel Location
Compute Angles
Validate
Project