View In:
ArcGIS JavaScript
ArcGIS Online Map Viewer
ArcGIS Earth
Service Description: AerialPhotos/2013Aerial
Name: AerialPhotos/2013Aerial
Description:
Single Fused Map Cache: false
Extent:
XMin: 2570976.589714408
YMin: 253659.07000000775
XMax: 2602250.089714408
YMax: 293986.57000000775
Spatial Reference: 0
(0)
LatestVCSWkid(0)
Initial Extent:
XMin: 2570976.589714408
YMin: 253659.07000000775
XMax: 2602250.089714408
YMax: 293986.57000000775
Spatial Reference: 0
(0)
LatestVCSWkid(0)
Full Extent:
XMin: 2570976.589714408
YMin: 253659.07000000775
XMax: 2602250.089714408
YMax: 293986.57000000775
Spatial Reference: 0
(0)
LatestVCSWkid(0)
Pixel Size X: 0.25
Pixel Size Y: 0.25
Band Count: 3
Pixel Type: U8
RasterFunction Infos: {"rasterFunctionInfos": [{
"name": "None",
"description": "",
"help": ""
}]}
Mensuration Capabilities: Basic
Has Histograms: true
Has Colormap: false
Has Multi Dimensions : false
Rendering Rule:
Min Scale: 0
Max Scale: 0
Copyright Text:
Service Data Type: esriImageServiceDataTypeRGB
Min Values: 15, 22, 0
Max Values: 255, 255, 255
Mean Values: 177.51980400163, 171.54205798285, 158.05369538587
Standard Deviation Values: 66.452466423721, 71.141368350224, 82.195333578055
Object ID Field:
Fields:
None
Default Mosaic Method: Center
Allowed Mosaic Methods:
SortField:
SortValue: null
Mosaic Operator: First
Default Compression Quality: 75
Default Resampling Method: Bilinear
Max Record Count: null
Max Image Height: 4100
Max Image Width: 15000
Max Download Image Count: null
Max Mosaic Image Count: null
Allow Raster Function: true
Allow Copy: true
Allow Analysis: true
Allow Compute TiePoints: false
Supports Statistics: false
Supports Advanced Queries: false
Use StandardizedQueries: true
Raster Type Infos:
Name: Raster Dataset
Description: Supports all ArcGIS Raster Datasets
Help:
Has Raster Attribute Table: false
Edit Fields Info: null
Ownership Based AccessControl For Rasters: null
Child Resources:
Info
Histograms
Statistics
Key Properties
Legend
Raster Function Infos
Supported Operations:
Export Image
Identify
Measure
Compute Histograms
Compute Statistics Histograms
Get Samples
Compute Class Statistics
Query Boundary
Compute Pixel Location
Compute Angles
Validate
Project