View In:
ArcGIS JavaScript
ArcGIS Online Map Viewer
ArcGIS Earth
Service Description: Sanborn/Sanborn_1887
Name: Sanborn/Sanborn_1887
Description:
Single Fused Map Cache: false
Extent:
XMin: 2591308.716418902
YMin: 263993.245598737
XMax: 2596544.6309936466
YMax: 278677.8031762714
Spatial Reference: 32054
(32054)
LatestVCSWkid(0)
Initial Extent:
XMin: 2591308.716418902
YMin: 263993.245598737
XMax: 2596544.6309936466
YMax: 278677.8031762714
Spatial Reference: 32054
(32054)
LatestVCSWkid(0)
Full Extent:
XMin: 2591308.716418902
YMin: 263993.245598737
XMax: 2596544.6309936466
YMax: 278677.8031762714
Spatial Reference: 32054
(32054)
LatestVCSWkid(0)
Pixel Size X: 0.11266088380300475
Pixel Size Y: 0.11266088380299981
Band Count: 3
Pixel Type: U8
RasterFunction Infos: {"rasterFunctionInfos": [{
"name": "None",
"description": "",
"help": ""
}]}
Mensuration Capabilities: Basic
Has Histograms: true
Has Colormap: false
Has Multi Dimensions : false
Rendering Rule:
Min Scale: 0
Max Scale: 0
Copyright Text:
Service Data Type: esriImageServiceDataTypeRGB
Min Values: 43, 0, 41
Max Values: 255, 248, 250
Mean Values: 197.28509420774975, 185.767443020177, 159.24154182354528
Standard Deviation Values: 28.21387663941606, 27.218469075826373, 26.09076731041899
Object ID Field:
Fields:
None
Default Mosaic Method: Center
Allowed Mosaic Methods:
SortField:
SortValue: null
Mosaic Operator: First
Default Compression Quality: 75
Default Resampling Method: Bilinear
Max Record Count: null
Max Image Height: 4100
Max Image Width: 15000
Max Download Image Count: null
Max Mosaic Image Count: null
Allow Raster Function: true
Allow Copy: true
Allow Analysis: true
Allow Compute TiePoints: false
Supports Statistics: false
Supports Advanced Queries: false
Use StandardizedQueries: true
Raster Type Infos:
Name: Raster Dataset
Description: Supports all ArcGIS Raster Datasets
Help:
Has Raster Attribute Table: false
Edit Fields Info: null
Ownership Based AccessControl For Rasters: null
Child Resources:
Info
Histograms
Statistics
Key Properties
Legend
Raster Function Infos
Supported Operations:
Export Image
Identify
Measure
Compute Histograms
Compute Statistics Histograms
Get Samples
Compute Class Statistics
Query Boundary
Compute Pixel Location
Compute Angles
Validate
Project